Workbook

Sheet 良→不処理
A1: 日付 | B1: 商品コード | C1: 型番 | D1: 数量 | E1: 担当者 | F1: 区分 | G1: 処理担当者 | H1: NS_型番
A2: 46113 | B2: 5477 | C2: =IF(B2="","",VLOOKUP(B2,[1]商品マスタ!$A:$D,2,FALSE)) -> GIC-DLOC-02 | D2: 1 | E2: 内山 | F2: A:入荷検品 | G2: 矢部 | H2: =IF(B2="","",VLOOKUP(B2,[1]商品マスタ!$A:$D,3,FALSE)) -> 00005477_GIC-DLOC-02
A3: 46113 | B3: 5549 | C3: =IF(B3="","",VLOOKUP(B3,[1]商品マスタ!$A:$D,2,FALSE)) -> NCIG-4808A | D3: 1 | E3: 内山 | F3: A:入荷検品 | G3: 矢部 | H3: =IF(B3="","",VLOOKUP(B3,[1]商品マスタ!$A:$D,3,FALSE)) -> 00005549_NCIG-4808A
A4: 46113 | B4: 5549 | C4: =IF(B4="","",VLOOKUP(B4,[1]商品マスタ!$A:$D,2,FALSE)) -> NCIG-4808A | D4: 2 | E4: 内山 | F4: B:PK不良 | G4: 矢部 | H4: =IF(B4="","",VLOOKUP(B4,[1]商品マスタ!$A:$D,3,FALSE)) -> 00005549_NCIG-4808A
A5: 46113 | B5: 5550 | C5: =IF(B5="","",VLOOKUP(B5,[1]商品マスタ!$A:$D,2,FALSE)) -> NCIG-4809A | D5: 1 | E5: 内山 | F5: A:入荷検品 | G5: 矢部 | H5: =IF(B5="","",VLOOKUP(B5,[1]商品マスタ!$A:$D,3,FALSE)) -> 00005550_NCIG-4809A
A6: 46113 | B6: 5550 | C6: =IF(B6="","",VLOOKUP(B6,[1]商品マスタ!$A:$D,2,FALSE)) -> NCIG-4809A | D6: 1 | E6: 内山 | F6: B:PK不良 | G6: 矢部 | H6: =IF(B6="","",VLOOKUP(B6,[1]商品マスタ!$A:$D,3,FALSE)) -> 00005550_NCIG-4809A
A7: 46113 | B7: 4879 | C7: =IF(B7="","",VLOOKUP(B7,[1]商品マスタ!$A:$D,2,FALSE)) -> GZ-316 | D7: 1 | E7: 内山 | F7: B:PK不良 | G7: 矢部 | H7: =IF(B7="","",VLOOKUP(B7,[1]商品マスタ!$A:$D,3,FALSE)) -> 00004879_GZ-316
A8: 46113 | B8: 5481 | C8: =IF(B8="","",VLOOKUP(B8,[1]商品マスタ!$A:$D,2,FALSE)) -> LY-FOM4 | D8: 2 | E8: 内山 | F8: B:PK不良 | G8: 矢部 | H8: =IF(B8="","",VLOOKUP(B8,[1]商品マスタ!$A:$D,3,FALSE)) -> 00005481_LY-FOM4
A9: 46113 | B9: 5155 | C9: =IF(B9="","",VLOOKUP(B9,[1]商品マスタ!$A:$D,2,FALSE)) -> GZ-X233 | D9: 2 | E9: 内山 | F9: B:PK不良 | G9: 矢部 | H9: =IF(B9="","",VLOOKUP(B9,[1]商品マスタ!$A:$D,3,FALSE)) -> 00005155_GZ-X233
A10: 46113 | B10: 5504 | C10: =IF(B10="","",VLOOKUP(B10,[1]商品マスタ!$A:$D,2,FALSE)) -> GZ-307 | D10: 1 | E10: 内山 | F10: B:PK不良 | G10: 矢部 | H10: =IF(B10="","",VLOOKUP(B10,[1]商品マスタ!$A:$D,3,FALSE)) -> 00005504_GZ-307
A11: 46113 | B11: 4361 | C11: =IF(B11="","",VLOOKUP(B11,[1]商品マスタ!$A:$D,2,FALSE)) -> GZ-011 | D11: 2 | E11: 内山 | F11: A:入荷検品 | G11: 矢部 | H11: =IF(B11="","",VLOOKUP(B11,[1]商品マスタ!$A:$D,3,FALSE)) -> 00004361_GZ-011
A12: 46113 | B12: 4269 | C12: =IF(B12="","",VLOOKUP(B12,[1]商品マスタ!$A:$D,2,FALSE)) -> BR-432D | D12: 2 | E12: 内山 | F12: A:入荷検品 | G12: 矢部 | H12: =IF(B12="","",VLOOKUP(B12,[1]商品マスタ!$A:$D,3,FALSE)) -> 00004269_BR-432D
A13: 46113 | B13: 3737 | C13: =IF(B13="","",VLOOKUP(B13,[1]商品マスタ!$A:$D,2,FALSE)) -> GK-001S | D13: 2 | E13: 内山 | F13: A:入荷検品 | G13: 矢部 | H13: =IF(B13="","",VLOOKUP(B13,[1]商品マスタ!$A:$D,3,FALSE)) -> 00003737_GK-001S
... A23: 46115 | B23: 4650 | C23: =IF(B23="","",VLOOKUP(B23,[1]商品マスタ!$A:$D,2,FALSE)) -> SNM-H31D | D23: 2 | E23: 安藤 | F23: A:入荷検品 | G23: 矢部 | H23: =IF(B23="","",VLOOKUP(B23,[1]商品マスタ!$A:$D,3,FALSE)) -> 00004650_SNM-H31D
A24: 46118 | B24: 5549 | C24: =IF(B24="","",VLOOKUP(B24,[1]商品マスタ!$A:$D,2,FALSE)) -> NCIG-4808A | D24: 1 | E24: 田中 | F24: B:PK不良 | H24: =IF(B24="","",VLOOKUP(B24,[1]商品マスタ!$A:$D,3,FALSE)) -> 00005549_NCIG-4808A
A25: 46118 | B25: 4987 | C25: =IF(B25="","",VLOOKUP(B25,[1]商品マスタ!$A:$D,2,FALSE)) -> SNM-J132D | D25: 8 | E25: 田中 | F25: G:その他 | H25: =IF(B25="","",VLOOKUP(B25,[1]商品マスタ!$A:$D,3,FALSE)) -> 00004987_SNM-J132D
A26: 46118 | B26: 5023 | C26: =IF(B26="","",VLOOKUP(B26,[1]商品マスタ!$A:$D,2,FALSE)) -> OZ-2XN | D26: 3 | E26: 田中 | F26: G:その他 | H26: =IF(B26="","",VLOOKUP(B26,[1]商品マスタ!$A:$D,3,FALSE)) -> 00005023_OZ-2XN
A27: 46118 | B27: 5543 | C27: =IF(B27="","",VLOOKUP(B27,[1]商品マスタ!$A:$D,2,FALSE)) -> BWIS-4807BH | D27: 1 | E27: 田中 | F27: G:その他 | H27: =IF(B27="","",VLOOKUP(B27,[1]商品マスタ!$A:$D,3,FALSE)) -> 00005543_BWIS-4807BH
A28: 46118 | B28: 4807 | C28: =IF(B28="","",VLOOKUP(B28,[1]商品マスタ!$A:$D,2,FALSE)) -> CVHC-24 | D28: 1 | E28: 田中 | F28: G:その他 | H28: =IF(B28="","",VLOOKUP(B28,[1]商品マスタ!$A:$D,3,FALSE)) -> 00004807_CVHC-24
C29: =IF(B29="","",VLOOKUP(B29,[1]商品マスタ!$A:$D,2,FALSE)) | H29: =IF(B29="","",VLOOKUP(B29,[1]商品マスタ!$A:$D,3,FALSE))
C30: =IF(B30="","",VLOOKUP(B30,[1]商品マスタ!$A:$D,2,FALSE)) | H30: =IF(B30="","",VLOOKUP(B30,[1]商品マスタ!$A:$D,3,FALSE))
C31: =IF(B31="","",VLOOKUP(B31,[1]商品マスタ!$A:$D,2,FALSE)) | H31: =IF(B31="","",VLOOKUP(B31,[1]商品マスタ!$A:$D,3,FALSE))
C32: =IF(B32="","",VLOOKUP(B32,[1]商品マスタ!$A:$D,2,FALSE)) | H32: =IF(B32="","",VLOOKUP(B32,[1]商品マスタ!$A:$D,3,FALSE))
C33: =IF(B33="","",VLOOKUP(B33,[1]商品マスタ!$A:$D,2,FALSE)) | H33: =IF(B33="","",VLOOKUP(B33,[1]商品マスタ!$A:$D,3,FALSE))
C34: =IF(B34="","",VLOOKUP(B34,[1]商品マスタ!$A:$D,2,FALSE)) | H34: =IF(B34="","",VLOOKUP(B34,[1]商品マスタ!$A:$D,3,FALSE))
C35: =IF(B35="","",VLOOKUP(B35,[1]商品マスタ!$A:$D,2,FALSE)) | H35: =IF(B35="","",VLOOKUP(B35,[1]商品マスタ!$A:$D,3,FALSE))
C36: =IF(B36="","",VLOOKUP(B36,[1]商品マスタ!$A:$D,2,FALSE)) | H36: =IF(B36="","",VLOOKUP(B36,[1]商品マスタ!$A:$D,3,FALSE))
C37: =IF(B37="","",VLOOKUP(B37,[1]商品マスタ!$A:$D,2,FALSE)) | H37: =IF(B37="","",VLOOKUP(B37,[1]商品マスタ!$A:$D,3,FALSE))
C38: =IF(B38="","",VLOOKUP(B38,[1]商品マスタ!$A:$D,2,FALSE)) | H38: =IF(B38="","",VLOOKUP(B38,[1]商品マスタ!$A:$D,3,FALSE))
C39: =IF(B39="","",VLOOKUP(B39,[1]商品マスタ!$A:$D,2,FALSE)) | H39: =IF(B39="","",VLOOKUP(B39,[1]商品マスタ!$A:$D,3,FALSE))
C40: =IF(B40="","",VLOOKUP(B40,[1]商品マスタ!$A:$D,2,FALSE)) | H40: =IF(B40="","",VLOOKUP(B40,[1]商品マスタ!$A:$D,3,FALSE))
... C43: =IF(B43="","",VLOOKUP(B43,[1]商品マスタ!$A:$D,2,FALSE)) | H43: =IF(B43="","",VLOOKUP(B43,[1]商品マスタ!$A:$D,3,FALSE))
C44: =IF(B44="","",VLOOKUP(B44,[1]商品マスタ!$A:$D,2,FALSE))
C45: =IF(B45="","",VLOOKUP(B45,[1]商品マスタ!$A:$D,2,FALSE)) | H45: =IF(B45="","",VLOOKUP(B45,[1]商品マスタ!$A:$D,3,FALSE))
C46: =IF(B46="","",VLOOKUP(B46,[1]商品マスタ!$A:$D,2,FALSE)) | H46: =IF(B46="","",VLOOKUP(B46,[1]商品マスタ!$A:$D,3,FALSE))
C47: =IF(B47="","",VLOOKUP(B47,[1]商品マスタ!$A:$D,2,FALSE)) | H47: =IF(B47="","",VLOOKUP(B47,[1]商品マスタ!$A:$D,3,FALSE))
C48: =IF(B48="","",VLOOKUP(B48,[1]商品マスタ!$A:$D,2,FALSE)) | H48: =IF(B48="","",VLOOKUP(B48,[1]商品マスタ!$A:$D,3,FALSE))
C49: =IF(B49="","",VLOOKUP(B49,[1]商品マスタ!$A:$D,2,FALSE)) | H49: =IF(B49="","",VLOOKUP(B49,[1]商品マスタ!$A:$D,3,FALSE))
C50: =IF(B50="","",VLOOKUP(B50,[1]商品マスタ!$A:$D,2,FALSE)) | H50: =IF(B50="","",VLOOKUP(B50,[1]商品マスタ!$A:$D,3,FALSE))
C51: =IF(B51="","",VLOOKUP(B51,[1]商品マスタ!$A:$D,2,FALSE)) | H51: =IF(B51="","",VLOOKUP(B51,[1]商品マスタ!$A:$D,3,FALSE))
...
